BEGIN:VCALENDAR
VERSION:2.0
PRODID:calendify.com
BEGIN:VEVENT
UID:calendify-session-naJOPRwwg29
DTSTART:20241229T090000Z
SEQUENCE:0
TRANSP:OPAQUE
DTEND:20241229T100000Z
URL:https://calendify.com/session/naJOPRwwg29
LOCATION:SoS Saal E
SUMMARY:Elektronische Patientenakte - Widerspruch ganz einfach
CLASS:PUBLIC
DESCRIPTION:https://calendify.com/session/naJOPRwwg29
DTSTAMP:20260419T212032Z
CREATED:20241227T141511Z
LAST-MODIFIED:20250101T225003Z
END:VEVENT
END:VCALENDAR