BEGIN:VCALENDAR
VERSION:2.0
PRODID:calendify.com
BEGIN:VEVENT
UID:calendify-session-naJOPVELg29
DTSTART:20180511T173000Z
SEQUENCE:0
TRANSP:OPAQUE
DTEND:20180511T180000Z
URL:https://calendify.com/session/naJOPVELg29
LOCATION:ZKM_Medientheater
SUMMARY:Computational Narratives - Philosophical perspectives on Jupyter No
 tebook
CLASS:PUBLIC
DESCRIPTION:https://calendify.com/session/naJOPVELg29
DTSTAMP:20260422T014026Z
CREATED:20200513T011827Z
LAST-MODIFIED:20200513T011827Z
END:VEVENT
END:VCALENDAR