BEGIN:VCALENDAR
VERSION:2.0
PRODID:calendify.com
BEGIN:VEVENT
UID:calendify-session-naJOPVLQg29
DTSTART:20180512T160000Z
SEQUENCE:0
TRANSP:OPAQUE
DTEND:20180512T180000Z
URL:https://calendify.com/session/naJOPVLQg29
LOCATION:Lounge
SUMMARY:K/B
CLASS:PUBLIC
DESCRIPTION:https://calendify.com/session/naJOPVLQg29
DTSTAMP:20260422T014717Z
CREATED:20200513T011828Z
LAST-MODIFIED:20200513T011828Z
END:VEVENT
END:VCALENDAR