BEGIN:VCALENDAR
VERSION:2.0
PRODID:calendify.com
BEGIN:VEVENT
UID:calendify-session-naJOPVWkg29
DTSTART:20190419T170000Z
SEQUENCE:0
TRANSP:OPAQUE
DTEND:20190419T180000Z
URL:https://calendify.com/session/naJOPVWkg29
LOCATION:EI 11
SUMMARY:GnuPG versus Signal ist wie Äpfel versus smarte Glühbirne
CLASS:PUBLIC
DESCRIPTION:https://calendify.com/session/naJOPVWkg29
DTSTAMP:20260422T210931Z
CREATED:20200513T003629Z
LAST-MODIFIED:20200513T003629Z
END:VEVENT
END:VCALENDAR