BEGIN:VCALENDAR
VERSION:2.0
PRODID:calendify.com
BEGIN:VEVENT
UID:calendify-session-naJOPZ5Kg29
DTSTART:20241227T193000Z
SEQUENCE:0
TRANSP:OPAQUE
DTEND:20241227T203000Z
URL:https://calendify.com/session/naJOPZ5Kg29
LOCATION:Chill Floor
SUMMARY:Tintin Patrone
CLASS:PUBLIC
DESCRIPTION:https://calendify.com/session/naJOPZ5Kg29
DTSTAMP:20260423T172535Z
CREATED:20241227T141459Z
LAST-MODIFIED:20250101T225002Z
END:VEVENT
END:VCALENDAR