BEGIN:VCALENDAR
VERSION:2.0
PRODID:calendify.com
BEGIN:VEVENT
UID:calendify-session-naJOPdZ0O29
DTSTART:20161230T124500Z
SEQUENCE:0
TRANSP:OPAQUE
DTEND:20161230T131500Z
URL:https://calendify.com/session/naJOPdZ0O29
LOCATION:Saal 2
SUMMARY:Rebel Cities
CLASS:PUBLIC
DESCRIPTION:https://calendify.com/session/naJOPdZ0O29
DTSTAMP:20260422T191444Z
CREATED:20220415T135303Z
LAST-MODIFIED:20220415T135303Z
END:VEVENT
END:VCALENDAR