BEGIN:VCALENDAR
VERSION:2.0
PRODID:calendify.com
BEGIN:VEVENT
UID:calendify-session-naJOPdpwO29
DTSTART:20220608T123000Z
SEQUENCE:0
TRANSP:OPAQUE
DTEND:20220608T130000Z
URL:https://calendify.com/session/naJOPdpwO29
LOCATION:Stage 3
SUMMARY:Lost in Transportation: Zwischen Neun-Euro-Ticket und Weltraumtaxi
CLASS:PUBLIC
DESCRIPTION:https://calendify.com/session/naJOPdpwO29
DTSTAMP:20260420T140831Z
CREATED:20220526T162948Z
LAST-MODIFIED:20220613T235204Z
END:VEVENT
END:VCALENDAR