BEGIN:VCALENDAR
VERSION:2.0
PRODID:calendify.com
BEGIN:VEVENT
UID:calendify-session-naJOPk6N429
DTSTART:20221228T161500Z
SEQUENCE:0
TRANSP:OPAQUE
DTEND:20221228T171500Z
URL:https://calendify.com/session/naJOPk6N429
LOCATION:WICMP Seminarraum
SUMMARY:Schokolade essen
CLASS:PUBLIC
DESCRIPTION:https://calendify.com/session/naJOPk6N429
DTSTAMP:20260422T123613Z
CREATED:20221221T105639Z
LAST-MODIFIED:20221230T225006Z
END:VEVENT
END:VCALENDAR