BEGIN:VCALENDAR
VERSION:2.0
PRODID:calendify.com
BEGIN:VEVENT
UID:calendify-session-naJOPknL429
DTSTART:20230609T182000Z
SEQUENCE:0
TRANSP:OPAQUE
DTEND:20230609T192000Z
URL:https://calendify.com/session/naJOPknL429
LOCATION:Blauer Salon
SUMMARY:Unlimited free accounts: your own mail server in 60 minutes
CLASS:PUBLIC
DESCRIPTION:https://calendify.com/session/naJOPknL429
DTSTAMP:20260423T145522Z
CREATED:20230527T091821Z
LAST-MODIFIED:20230611T215002Z
END:VEVENT
END:VCALENDAR