BEGIN:VCALENDAR
VERSION:2.0
PRODID:calendify.com
BEGIN:VEVENT
UID:calendify-session-naJOPwKQ429
DTSTART:20190922T133000Z
SEQUENCE:0
TRANSP:OPAQUE
DTEND:20190922T150000Z
URL:https://calendify.com/session/naJOPwKQ429
LOCATION:Seminarraum
SUMMARY:Neues Werkzeug für moderne Netzwerksicherheit (Workshop)
CLASS:PUBLIC
DESCRIPTION:https://calendify.com/session/naJOPwKQ429
DTSTAMP:20260422T170101Z
CREATED:20200610T174346Z
LAST-MODIFIED:20200610T174346Z
END:VEVENT
END:VCALENDAR