BEGIN:VCALENDAR
VERSION:2.0
PRODID:calendify.com
BEGIN:VEVENT
UID:calendify-session-naJOPwZ7429
DTSTART:20171229T141500Z
SEQUENCE:0
TRANSP:OPAQUE
DTEND:20171229T144500Z
URL:https://calendify.com/session/naJOPwZ7429
LOCATION:Saal Borg
SUMMARY:Saving the World with Space Solar Power
CLASS:PUBLIC
DESCRIPTION:https://calendify.com/session/naJOPwZ7429
DTSTAMP:20260424T133458Z
CREATED:20200625T113327Z
LAST-MODIFIED:20200625T113327Z
END:VEVENT
END:VCALENDAR