BEGIN:VCALENDAR
VERSION:2.0
PRODID:calendify.com
BEGIN:VEVENT
UID:calendify-session-naJOPz71g29
DTSTART:20240601T150000Z
SEQUENCE:0
TRANSP:OPAQUE
DTEND:20240601T160000Z
URL:https://calendify.com/session/naJOPz71g29
LOCATION:ZKM Medientheater
SUMMARY:elektronische Patientenakte (ePA)  Made in Germany - Digitalisierun
 g in der Medizin 2024
CLASS:PUBLIC
DESCRIPTION:https://calendify.com/session/naJOPz71g29
DTSTAMP:20260420T013714Z
CREATED:20240531T122740Z
LAST-MODIFIED:20240602T132303Z
END:VEVENT
END:VCALENDAR