BEGIN:VCALENDAR
VERSION:2.0
PRODID:calendify.com
BEGIN:VEVENT
UID:calendify-session-naJOPzEwg29
DTSTART:20231229T143000Z
SEQUENCE:0
TRANSP:OPAQUE
DTEND:20231229T160000Z
URL:https://calendify.com/session/naJOPzEwg29
LOCATION:Stonewall IO
SUMMARY:CCCrip Auskotzrunde
CLASS:PUBLIC
DESCRIPTION:https://calendify.com/session/naJOPzEwg29
DTSTAMP:20260423T054927Z
CREATED:20231219T100106Z
LAST-MODIFIED:20240401T142933Z
END:VEVENT
END:VCALENDAR