BEGIN:VCALENDAR
VERSION:2.0
PRODID:calendify.com
BEGIN:VEVENT
UID:calendify-session-naJOPzG7g29
DTSTART:20231228T134500Z
SEQUENCE:0
TRANSP:OPAQUE
DTEND:20231228T144500Z
URL:https://calendify.com/session/naJOPzG7g29
LOCATION:Saal Granville
SUMMARY:Nintendo hacking 2023: 2008
CLASS:PUBLIC
DESCRIPTION:https://calendify.com/session/naJOPzG7g29
DTSTAMP:20260423T015920Z
CREATED:20231215T204820Z
LAST-MODIFIED:20240401T142932Z
END:VEVENT
END:VCALENDAR