BEGIN:VCALENDAR
VERSION:2.0
PRODID:calendify.com
BEGIN:VEVENT
UID:calendify-session-naJOPzJkg29
DTSTART:20231228T170000Z
SEQUENCE:0
TRANSP:OPAQUE
DTEND:20231228T210000Z
URL:https://calendify.com/session/naJOPzJkg29
LOCATION:Art and Play Workshop table [H]
SUMMARY:Art and Play: DIY photolab research
CLASS:PUBLIC
DESCRIPTION:https://calendify.com/session/naJOPzJkg29
DTSTAMP:20260423T070307Z
CREATED:20231227T212002Z
LAST-MODIFIED:20240401T142932Z
END:VEVENT
END:VCALENDAR