BEGIN:VCALENDAR
VERSION:2.0
PRODID:calendify.com
BEGIN:VEVENT
UID:calendify-session-naJOPzNDg29
DTSTART:20231229T103000Z
SEQUENCE:0
TRANSP:OPAQUE
DTEND:20231229T111000Z
URL:https://calendify.com/session/naJOPzNDg29
LOCATION:CTBK-Workshoparea
SUMMARY:Spleiß-Workshop Tag 3
CLASS:PUBLIC
DESCRIPTION:https://calendify.com/session/naJOPzNDg29
DTSTAMP:20260423T031312Z
CREATED:20231226T195002Z
LAST-MODIFIED:20240401T142933Z
END:VEVENT
END:VCALENDAR