BEGIN:VCALENDAR
VERSION:2.0
PRODID:calendify.com
BEGIN:VEVENT
UID:calendify-session-naJOPzPkg29
DTSTART:20231229T180000Z
SEQUENCE:0
TRANSP:OPAQUE
DTEND:20231229T203000Z
URL:https://calendify.com/session/naJOPzPkg29
LOCATION:Chillout Lounge
SUMMARY:Marco Costanza (Dj)
CLASS:PUBLIC
DESCRIPTION:https://calendify.com/session/naJOPzPkg29
DTSTAMP:20260423T004034Z
CREATED:20231227T030003Z
LAST-MODIFIED:20240401T142932Z
END:VEVENT
END:VCALENDAR