BEGIN:VCALENDAR
VERSION:2.0
PRODID:calendify.com
BEGIN:VEVENT
UID:calendify-session-naJOPzVLg29
DTSTART:20230715T163000Z
SEQUENCE:0
TRANSP:OPAQUE
DTEND:20230715T173000Z
URL:https://calendify.com/session/naJOPzVLg29
LOCATION:Raum 1.7
SUMMARY:Warum es leichter ist\, ausländische Webseiten aufzurufen\, als mi
 t dem Zug ins Ausland zu fahren (Directors Cut)
CLASS:PUBLIC
DESCRIPTION:https://calendify.com/session/naJOPzVLg29
DTSTAMP:20260420T180936Z
CREATED:20230806T113150Z
LAST-MODIFIED:20230806T113150Z
END:VEVENT
END:VCALENDAR