BEGIN:VCALENDAR
VERSION:2.0
PRODID:calendify.com
BEGIN:VEVENT
UID:calendify-session-naJOPzXwg29
DTSTART:20231228T133000Z
SEQUENCE:0
TRANSP:OPAQUE
DTEND:20231228T151500Z
URL:https://calendify.com/session/naJOPzXwg29
LOCATION:Fireshonks
SUMMARY:Die Schwurbulaner vom Planeten Schwurbolus
CLASS:PUBLIC
DESCRIPTION:https://calendify.com/session/naJOPzXwg29
DTSTAMP:20260423T043556Z
CREATED:20231218T013833Z
LAST-MODIFIED:20240401T142932Z
END:VEVENT
END:VCALENDAR