BEGIN:VCALENDAR
VERSION:2.0
PRODID:calendify.com
BEGIN:VEVENT
UID:calendify-session-naJOPzaWg29
DTSTART:20231228T150000Z
SEQUENCE:0
TRANSP:OPAQUE
DTEND:20231228T155000Z
URL:https://calendify.com/session/naJOPzaWg29
LOCATION:House
SUMMARY:privacy aware digital devices for non-techies
CLASS:PUBLIC
DESCRIPTION:https://calendify.com/session/naJOPzaWg29
DTSTAMP:20260420T024656Z
CREATED:20231221T182738Z
LAST-MODIFIED:20240401T142932Z
END:VEVENT
END:VCALENDAR