BEGIN:VCALENDAR
VERSION:2.0
PRODID:calendify.com
BEGIN:VEVENT
UID:calendify-session-naJOPzb1g29
DTSTART:20240531T203000Z
SEQUENCE:0
TRANSP:OPAQUE
DTEND:20240531T213000Z
URL:https://calendify.com/session/naJOPzb1g29
LOCATION:ZKM Medientheater
SUMMARY:Wie wir ausversehen eine der größten Demos in Berlin gefilmt und 
 gestreamt haben
CLASS:PUBLIC
DESCRIPTION:https://calendify.com/session/naJOPzb1g29
DTSTAMP:20260420T030119Z
CREATED:20240531T122738Z
LAST-MODIFIED:20240602T132303Z
END:VEVENT
END:VCALENDAR