BEGIN:VCALENDAR
VERSION:2.0
PRODID:calendify.com
BEGIN:VEVENT
UID:calendify-session-naJOPzvKg29
DTSTART:20230902T100000Z
SEQUENCE:0
TRANSP:OPAQUE
DTEND:20230902T105000Z
URL:https://calendify.com/session/naJOPzvKg29
LOCATION:C120 - Arkanraum
SUMMARY:EVPN\, why do I want this?
CLASS:PUBLIC
DESCRIPTION:https://calendify.com/session/naJOPzvKg29
DTSTAMP:20260422T183206Z
CREATED:20240328T132702Z
LAST-MODIFIED:20240328T132702Z
END:VEVENT
END:VCALENDAR