BEGIN:VCALENDAR
VERSION:2.0
PRODID:calendify.com
BEGIN:VEVENT
UID:calendify-session-q5D4x93aObG
DTSTART:20240922T121500Z
SEQUENCE:0
TRANSP:OPAQUE
DTEND:20240922T130000Z
URL:https://calendify.com/session/q5D4x93aObG
LOCATION:Seminarraum
SUMMARY:The deepest dive into Transformers you'll ever get
CLASS:PUBLIC
DESCRIPTION:https://calendify.com/session/q5D4x93aObG
DTSTAMP:20260420T233345Z
CREATED:20241208T220338Z
LAST-MODIFIED:20241208T220338Z
END:VEVENT
END:VCALENDAR