BEGIN:VCALENDAR
VERSION:2.0
PRODID:calendify.com
BEGIN:VEVENT
UID:calendify-session-q5D4x99nObG
DTSTART:20240921T100000Z
SEQUENCE:0
TRANSP:OPAQUE
DTEND:20240921T104500Z
URL:https://calendify.com/session/q5D4x99nObG
LOCATION:Henny Brenner Saal
SUMMARY:Diskussionskultur fixen! Ein Bottom-Up-Opt-In-Lösungsvorschlag
CLASS:PUBLIC
DESCRIPTION:https://calendify.com/session/q5D4x99nObG
DTSTAMP:20260423T122236Z
CREATED:20241208T220338Z
LAST-MODIFIED:20241208T220338Z
END:VEVENT
END:VCALENDAR