BEGIN:VCALENDAR
VERSION:2.0
PRODID:calendify.com
BEGIN:VEVENT
UID:calendify-session-q5D4x9qmObG
DTSTART:20241227T210500Z
SEQUENCE:0
TRANSP:OPAQUE
DTEND:20241227T214500Z
URL:https://calendify.com/session/q5D4x9qmObG
LOCATION:Saal ZIGZAG
SUMMARY:Wie wird gleich?
CLASS:PUBLIC
DESCRIPTION:https://calendify.com/session/q5D4x9qmObG
DTSTAMP:20260419T145510Z
CREATED:20241208T214807Z
LAST-MODIFIED:20250101T225002Z
END:VEVENT
END:VCALENDAR