BEGIN:VCALENDAR
VERSION:2.0
PRODID:calendify.com
BEGIN:VEVENT
UID:calendify-session-q5D4xE67ObG
DTSTART:20220205T110000Z
SEQUENCE:0
TRANSP:OPAQUE
DTEND:20220205T111500Z
URL:https://calendify.com/session/q5D4xE67ObG
LOCATION:D.research
SUMMARY:MetaindeX and user requirements for a generic catalog application
CLASS:PUBLIC
DESCRIPTION:https://calendify.com/session/q5D4xE67ObG
DTSTAMP:20260422T164157Z
CREATED:20220120T214603Z
LAST-MODIFIED:20220206T225003Z
END:VEVENT
END:VCALENDAR