BEGIN:VCALENDAR
VERSION:2.0
PRODID:calendify.com
BEGIN:VEVENT
UID:calendify-session-q5D4xE9nObG
DTSTART:20210520T135500Z
SEQUENCE:0
TRANSP:OPAQUE
DTEND:20210520T142000Z
URL:https://calendify.com/session/q5D4xE9nObG
LOCATION:Kanal 1
SUMMARY:Strukturen (ab)schaffen: Für mehr Vielfalt im Film!
CLASS:PUBLIC
DESCRIPTION:https://calendify.com/session/q5D4xE9nObG
DTSTAMP:20260423T022149Z
CREATED:20210508T131338Z
LAST-MODIFIED:20210524T215002Z
END:VEVENT
END:VCALENDAR