BEGIN:VCALENDAR
VERSION:2.0
PRODID:calendify.com
BEGIN:VEVENT
UID:calendify-session-q5D4xEAWObG
DTSTART:20210310T213000Z
SEQUENCE:0
TRANSP:OPAQUE
DTEND:20210310T223000Z
URL:https://calendify.com/session/q5D4xEAWObG
LOCATION:Zoom Room 1B
SUMMARY:Election integrity and platform accountability: Global lessons from
  the 2020 U.S. Elections
CLASS:PUBLIC
DESCRIPTION:https://calendify.com/session/q5D4xEAWObG
DTSTAMP:20260422T171101Z
CREATED:20210426T094927Z
LAST-MODIFIED:20210426T094927Z
END:VEVENT
END:VCALENDAR