BEGIN:VCALENDAR
VERSION:2.0
PRODID:calendify.com
BEGIN:VEVENT
UID:calendify-session-q5D4xEBkObG
DTSTART:20210308T133000Z
SEQUENCE:0
TRANSP:OPAQUE
URL:https://calendify.com/session/q5D4xEBkObG
LOCATION:Art and Media
SUMMARY:Skating in the Netherlands!
CLASS:PUBLIC
DESCRIPTION:https://calendify.com/session/q5D4xEBkObG
DTSTAMP:20260420T215637Z
CREATED:20210426T094927Z
LAST-MODIFIED:20210426T094927Z
END:VEVENT
END:VCALENDAR