BEGIN:VCALENDAR
VERSION:2.0
PRODID:calendify.com
BEGIN:VEVENT
UID:calendify-session-q5D4xEKnObG
DTSTART:20220206T160000Z
SEQUENCE:0
TRANSP:OPAQUE
DTEND:20220206T170000Z
URL:https://calendify.com/session/q5D4xEKnObG
LOCATION:M.community
SUMMARY:Enabling Next Gen of Diverse Maintainers and Employees Through Ment
 orship
CLASS:PUBLIC
DESCRIPTION:https://calendify.com/session/q5D4xEKnObG
DTSTAMP:20260420T092404Z
CREATED:20220120T214605Z
LAST-MODIFIED:20220206T225003Z
END:VEVENT
END:VCALENDAR