BEGIN:VCALENDAR
VERSION:2.0
PRODID:calendify.com
BEGIN:VEVENT
UID:calendify-session-q5D4xEWnObG
DTSTART:20220205T083000Z
SEQUENCE:0
TRANSP:OPAQUE
DTEND:20220205T090000Z
URL:https://calendify.com/session/q5D4xEWnObG
LOCATION:S.civicrm
SUMMARY:Welcome to the CiviCRM stand
CLASS:PUBLIC
DESCRIPTION:https://calendify.com/session/q5D4xEWnObG
DTSTAMP:20260423T211202Z
CREATED:20220120T214604Z
LAST-MODIFIED:20220206T225003Z
END:VEVENT
END:VCALENDAR