BEGIN:VCALENDAR
VERSION:2.0
PRODID:calendify.com
BEGIN:VEVENT
UID:calendify-session-q5D4xEeWObG
DTSTART:20210311T213000Z
SEQUENCE:0
TRANSP:OPAQUE
DTEND:20210311T223000Z
URL:https://calendify.com/session/q5D4xEeWObG
LOCATION:Zoom Room 2B
SUMMARY:Our speech\, our rules: Decentralising Content Moderation and Recla
 iming the power to govern our communities
CLASS:PUBLIC
DESCRIPTION:https://calendify.com/session/q5D4xEeWObG
DTSTAMP:20260424T082644Z
CREATED:20210426T094927Z
LAST-MODIFIED:20210426T094927Z
END:VEVENT
END:VCALENDAR