BEGIN:VCALENDAR
VERSION:2.0
PRODID:calendify.com
BEGIN:VEVENT
UID:calendify-session-q5D4xN1kMbG
DTSTART:20231228T150000Z
SEQUENCE:0
TRANSP:OPAQUE
DTEND:20231228T170000Z
URL:https://calendify.com/session/q5D4xN1kMbG
LOCATION:Kidspace - Saal B
SUMMARY:Elektrobaukasten - Tag 2
CLASS:PUBLIC
DESCRIPTION:https://calendify.com/session/q5D4xN1kMbG
DTSTAMP:20260423T031353Z
CREATED:20231221T004754Z
LAST-MODIFIED:20240401T142932Z
END:VEVENT
END:VCALENDAR