BEGIN:VCALENDAR
VERSION:2.0
PRODID:calendify.com
BEGIN:VEVENT
UID:calendify-session-q5D4xN77MbG
DTSTART:20231228T130000Z
SEQUENCE:0
TRANSP:OPAQUE
DTEND:20231228T140000Z
URL:https://calendify.com/session/q5D4xN77MbG
LOCATION:Saal B - Hackcenter
SUMMARY:Minetest - Tag 2
CLASS:PUBLIC
DESCRIPTION:https://calendify.com/session/q5D4xN77MbG
DTSTAMP:20260423T043556Z
CREATED:20231228T105003Z
LAST-MODIFIED:20240401T142932Z
END:VEVENT
END:VCALENDAR