BEGIN:VCALENDAR
VERSION:2.0
PRODID:calendify.com
BEGIN:VEVENT
UID:calendify-session-q5D4xNGRMbG
DTSTART:20231230T172000Z
SEQUENCE:0
TRANSP:OPAQUE
DTEND:20231230T175000Z
URL:https://calendify.com/session/q5D4xNGRMbG
LOCATION:Saal 1
SUMMARY:37C3: Feierlicher Abschluss
CLASS:PUBLIC
DESCRIPTION:https://calendify.com/session/q5D4xNGRMbG
DTSTAMP:20260423T030806Z
CREATED:20231215T204822Z
LAST-MODIFIED:20240401T142934Z
END:VEVENT
END:VCALENDAR