BEGIN:VCALENDAR
VERSION:2.0
PRODID:calendify.com
BEGIN:VEVENT
UID:calendify-session-q5D4xNVkMbG
DTSTART:20231230T093000Z
SEQUENCE:0
TRANSP:OPAQUE
DTEND:20231230T110000Z
URL:https://calendify.com/session/q5D4xNVkMbG
LOCATION:Fireshonks
SUMMARY:Getting started with threat modelling
CLASS:PUBLIC
DESCRIPTION:https://calendify.com/session/q5D4xNVkMbG
DTSTAMP:20260421T193032Z
CREATED:20231218T013835Z
LAST-MODIFIED:20240401T142934Z
END:VEVENT
END:VCALENDAR