BEGIN:VCALENDAR
VERSION:2.0
PRODID:calendify.com
BEGIN:VEVENT
UID:calendify-session-q5D4xNXmMbG
DTSTART:20231227T180000Z
SEQUENCE:0
TRANSP:OPAQUE
DTEND:20231227T190000Z
URL:https://calendify.com/session/q5D4xNXmMbG
LOCATION:FOSS-HW Workshop Area [CDC Saal 3]
SUMMARY:Hack Meetup: LED Badges and Holographic LED Fans
CLASS:PUBLIC
DESCRIPTION:https://calendify.com/session/q5D4xNXmMbG
DTSTAMP:20260423T015830Z
CREATED:20231226T155002Z
LAST-MODIFIED:20240401T142932Z
END:VEVENT
END:VCALENDAR