BEGIN:VCALENDAR
VERSION:2.0
PRODID:calendify.com
BEGIN:VEVENT
UID:calendify-session-q5D4xNZnMbG
DTSTART:20231229T210000Z
SEQUENCE:0
TRANSP:OPAQUE
DTEND:20231229T220000Z
URL:https://calendify.com/session/q5D4xNZnMbG
LOCATION:FOSS-HW Workshop Area [CDC Saal 3]
SUMMARY:Open Security Token Nitrokey and the Trussed Cryptographic Firmware
CLASS:PUBLIC
DESCRIPTION:https://calendify.com/session/q5D4xNZnMbG
DTSTAMP:20260423T060746Z
CREATED:20231229T162003Z
LAST-MODIFIED:20240401T142933Z
END:VEVENT
END:VCALENDAR