BEGIN:VCALENDAR
VERSION:2.0
PRODID:calendify.com
BEGIN:VEVENT
UID:calendify-session-q5D4xNdWMbG
DTSTART:20231228T210000Z
SEQUENCE:0
TRANSP:OPAQUE
DTEND:20231228T230000Z
URL:https://calendify.com/session/q5D4xNdWMbG
LOCATION:Saal E
SUMMARY:Non Viol3nt Communication Workshop
CLASS:PUBLIC
DESCRIPTION:https://calendify.com/session/q5D4xNdWMbG
DTSTAMP:20260423T043128Z
CREATED:20231224T230004Z
LAST-MODIFIED:20240401T142932Z
END:VEVENT
END:VCALENDAR