BEGIN:VCALENDAR
VERSION:2.0
PRODID:calendify.com
BEGIN:VEVENT
UID:calendify-session-q5D4xNyWMbG
DTSTART:20231228T191500Z
SEQUENCE:0
TRANSP:OPAQUE
DTEND:20231228T210000Z
URL:https://calendify.com/session/q5D4xNyWMbG
LOCATION:Saal E
SUMMARY:European Health Data Space - A Cash Cow
CLASS:PUBLIC
DESCRIPTION:https://calendify.com/session/q5D4xNyWMbG
DTSTAMP:20260422T001958Z
CREATED:20231222T100104Z
LAST-MODIFIED:20240401T142932Z
END:VEVENT
END:VCALENDAR