BEGIN:VCALENDAR
VERSION:2.0
PRODID:calendify.com
BEGIN:VEVENT
UID:calendify-session-q5D4xPxn4bG
DTSTART:20190921T134500Z
SEQUENCE:0
TRANSP:OPAQUE
DTEND:20190921T143000Z
URL:https://calendify.com/session/q5D4xPxn4bG
LOCATION:Großer Saal
SUMMARY:Bits und Bäume
CLASS:PUBLIC
DESCRIPTION:https://calendify.com/session/q5D4xPxn4bG
DTSTAMP:20260424T014942Z
CREATED:20200610T174346Z
LAST-MODIFIED:20200610T174346Z
END:VEVENT
END:VCALENDAR