BEGIN:VCALENDAR
VERSION:2.0
PRODID:calendify.com
BEGIN:VEVENT
UID:calendify-session-q5D4xRDLMbG
DTSTART:20241228T095000Z
SEQUENCE:0
TRANSP:OPAQUE
DTEND:20241228T103000Z
URL:https://calendify.com/session/q5D4xRDLMbG
LOCATION:SoS Saal D
SUMMARY:Selbsthilfegruppe Verwaltungsdigitalisierung (\"Faxgeräteclub\")
CLASS:PUBLIC
DESCRIPTION:https://calendify.com/session/q5D4xRDLMbG
DTSTAMP:20260421T135850Z
CREATED:20241227T141504Z
LAST-MODIFIED:20250101T225002Z
END:VEVENT
END:VCALENDAR