BEGIN:VCALENDAR
VERSION:2.0
PRODID:calendify.com
BEGIN:VEVENT
UID:calendify-session-q5D4xRaWMbG
DTSTART:20241229T190000Z
SEQUENCE:0
TRANSP:OPAQUE
DTEND:20241229T193000Z
URL:https://calendify.com/session/q5D4xRaWMbG
LOCATION:Kidspace - Affenfelsen
SUMMARY:GuteN8Geschichte \"Das NEINhorn und der Geburtstag\" - Tag 3
CLASS:PUBLIC
DESCRIPTION:https://calendify.com/session/q5D4xRaWMbG
DTSTAMP:20260419T145316Z
CREATED:20241227T141514Z
LAST-MODIFIED:20250101T225003Z
END:VEVENT
END:VCALENDAR