BEGIN:VCALENDAR
VERSION:2.0
PRODID:calendify.com
BEGIN:VEVENT
UID:calendify-session-q5D4xa3mObG
DTSTART:20151228T154500Z
SEQUENCE:0
TRANSP:OPAQUE
DTEND:20151228T161500Z
URL:https://calendify.com/session/q5D4xa3mObG
LOCATION:Hall G
SUMMARY:apertus° AXIOM
CLASS:PUBLIC
DESCRIPTION:https://calendify.com/session/q5D4xa3mObG
DTSTAMP:20260423T082521Z
CREATED:20220415T142917Z
LAST-MODIFIED:20220415T142917Z
END:VEVENT
END:VCALENDAR