BEGIN:VCALENDAR
VERSION:2.0
PRODID:calendify.com
BEGIN:VEVENT
UID:calendify-session-q5D4xa5WObG
DTSTART:20220610T120000Z
SEQUENCE:0
TRANSP:OPAQUE
DTEND:20220610T130000Z
URL:https://calendify.com/session/q5D4xa5WObG
LOCATION:The Beach
SUMMARY:Aktivierung\, Interaktion und Empowerment in BERLIN GLOBAL.
CLASS:PUBLIC
DESCRIPTION:https://calendify.com/session/q5D4xa5WObG
DTSTAMP:20260423T171813Z
CREATED:20220527T095934Z
LAST-MODIFIED:20220613T235204Z
END:VEVENT
END:VCALENDAR