BEGIN:VCALENDAR
VERSION:2.0
PRODID:calendify.com
BEGIN:VEVENT
UID:calendify-session-q5D4xakLObG
DTSTART:20220610T080000Z
SEQUENCE:0
TRANSP:OPAQUE
DTEND:20220610T090000Z
URL:https://calendify.com/session/q5D4xakLObG
LOCATION:Makerspace
SUMMARY:Workshop mit Raspberry Pi und Kamerasystem zur Aufnahme von Insekte
 n und anderen schnellen Objekten
CLASS:PUBLIC
DESCRIPTION:https://calendify.com/session/q5D4xakLObG
DTSTAMP:20260423T122251Z
CREATED:20220526T162945Z
LAST-MODIFIED:20220613T235204Z
END:VEVENT
END:VCALENDAR