BEGIN:VCALENDAR
VERSION:2.0
PRODID:calendify.com
BEGIN:VEVENT
UID:calendify-session-q5D4xalyObG
DTSTART:20220206T123000Z
SEQUENCE:0
TRANSP:OPAQUE
DTEND:20220206T130000Z
URL:https://calendify.com/session/q5D4xalyObG
LOCATION:D.libreoffice
SUMMARY:LibreOffice GTK4 Port
CLASS:PUBLIC
DESCRIPTION:https://calendify.com/session/q5D4xalyObG
DTSTAMP:20260420T080717Z
CREATED:20220120T214608Z
LAST-MODIFIED:20220206T225004Z
END:VEVENT
END:VCALENDAR