BEGIN:VCALENDAR
VERSION:2.0
PRODID:calendify.com
BEGIN:VEVENT
UID:calendify-session-q5D4xam7ObG
DTSTART:20220521T154500Z
SEQUENCE:0
TRANSP:OPAQUE
DTEND:20220521T164500Z
URL:https://calendify.com/session/q5D4xam7ObG
LOCATION:Vortragssaal
SUMMARY:Wie hackt man einen Analogrechner
CLASS:PUBLIC
DESCRIPTION:https://calendify.com/session/q5D4xam7ObG
DTSTAMP:20260420T111948Z
CREATED:20220502T005752Z
LAST-MODIFIED:20220521T215002Z
END:VEVENT
END:VCALENDAR