BEGIN:VCALENDAR
VERSION:2.0
PRODID:calendify.com
BEGIN:VEVENT
UID:calendify-session-q5D4xaomObG
DTSTART:20220724T120000Z
SEQUENCE:0
TRANSP:OPAQUE
DTEND:20220724T125000Z
URL:https://calendify.com/session/q5D4xaomObG
LOCATION:Abacus 🧮
SUMMARY:Hacking COVID: Hackers helping the government
CLASS:PUBLIC
DESCRIPTION:https://calendify.com/session/q5D4xaomObG
DTSTAMP:20260423T203427Z
CREATED:20220620T212434Z
LAST-MODIFIED:20220726T182703Z
END:VEVENT
END:VCALENDAR