BEGIN:VCALENDAR
VERSION:2.0
PRODID:calendify.com
BEGIN:VEVENT
UID:calendify-session-q5D4xaryObG
DTSTART:20220609T133000Z
SEQUENCE:0
TRANSP:OPAQUE
DTEND:20220609T150000Z
URL:https://calendify.com/session/q5D4xaryObG
LOCATION:Workshop T
SUMMARY:Ludic Innovation Experiences: Purpose Prototyping
CLASS:PUBLIC
DESCRIPTION:https://calendify.com/session/q5D4xaryObG
DTSTAMP:20260423T161344Z
CREATED:20220526T162944Z
LAST-MODIFIED:20220613T235204Z
END:VEVENT
END:VCALENDAR